BEGIN:VCALENDAR
VERSION:2.0
PRODID:-//hacksw/handcal//NONSGML v1.0//EN
CALSCALE:GREGORIAN
BEGIN:VEVENT
ORGANIZER;CN=Arteris, Inc.:MAILTO:no-reply@gcs-web.com
DTEND:
UID:139541ae-8f9e-4cd1-ac2d-4388c336c282
DTSTAMP:1777043768
LOCATION:https://edge.media-server.com/mmc/p/7g4avmht/
DESCRIPTION:Event Details https://ir.arteris.com/events/event-details/arteris-inc-first-quarter-2026-earnings-conference-call\n\nWebcast: https://edge.media-server.com/mmc/p/7g4avmht/
URL;VALUE=URI:https://edge.media-server.com/mmc/p/7g4avmht/
SUMMARY:Arteris, Inc. - Arteris, Inc. First Quarter 2026 Earnings Conference Call
DTSTART:20260512T203000Z
END:VEVENT
END:VCALENDAR