BEGIN:VCALENDAR
VERSION:2.0
PRODID:-//hacksw/handcal//NONSGML v1.0//EN
CALSCALE:GREGORIAN
BEGIN:VEVENT
ORGANIZER;CN=Arteris, Inc.:MAILTO:no-reply@gcs-web.com
DTEND:
UID:17a4bc06-c8c2-4e6c-bf0a-852118d742a0
DTSTAMP:1776782665
LOCATION:https://ir.arteris.com/events/event-details/jefferies-semiconductor-it-hardware-communications-technology-conference-0
DESCRIPTION:Event Details https://ir.arteris.com/events/event-details/jefferies-semiconductor-it-hardware-communications-technology-conference-0
URL;VALUE=URI:https://ir.arteris.com/events/event-details/jefferies-semiconductor-it-hardware-communications-technology-conference-0
SUMMARY:Arteris, Inc. - Jefferies' Semiconductor, IT Hardware, Communications Technology Conference
DTSTART:20260825T210000Z
END:VEVENT
END:VCALENDAR